BEGIN:VCALENDAR
VERSION:2.0
PRODID:-//NetAuktion//NONSGML NetAuktion//SV
METHOD:PUBLISH
BEGIN:VEVENT
UID:20260421T103032-538788227-netauktion.se
DTSTAMP:20260421T103032
DTSTART:20110226T025600
DTEND:20110226T025900
SUMMARY:Netauktion objekt 0568-040 Auktionspåminnelse
DESCRIPTION:Länk till objektet du var intresserad av: https://staging.netauktion.se/auktion/produkt/2st-nya-motorlas-for-utombordare
END:VEVENT
END:VCALENDAR
