BEGIN:VCALENDAR
VERSION:2.0
PRODID:-//NetAuktion//NONSGML NetAuktion//SV
METHOD:PUBLISH
BEGIN:VEVENT
UID:20260421T104431-1569512468-netauktion.se
DTSTAMP:20260421T104431
DTSTART:20110226T023600
DTEND:20110226T023900
SUMMARY:Netauktion objekt 0568-047 Auktionspåminnelse
DESCRIPTION:Länk till objektet du var intresserad av: https://staging.netauktion.se/auktion/produkt/2par-nya-aror-5-fot-3
END:VEVENT
END:VCALENDAR
