BEGIN:VCALENDAR
VERSION:2.0
PRODID:-//NetAuktion//NONSGML NetAuktion//SV
METHOD:PUBLISH
BEGIN:VEVENT
UID:20260421T104456-1867944864-netauktion.se
DTSTAMP:20260421T104456
DTSTART:20110331T015500
DTEND:20110331T015800
SUMMARY:Netauktion objekt 0568-051 Auktionspåminnelse
DESCRIPTION:Länk till objektet du var intresserad av: https://staging.netauktion.se/auktion/produkt/2par-nya-aror-6-fot-4
END:VEVENT
END:VCALENDAR
