BEGIN:VCALENDAR
VERSION:2.0
PRODID:-//NetAuktion//NONSGML NetAuktion//SV
METHOD:PUBLISH
BEGIN:VEVENT
UID:20260421T104400-846448047-netauktion.se
DTSTAMP:20260421T104400
DTSTART:20081217T015300
DTEND:20081217T015600
SUMMARY:Netauktion objekt 0125-183 Auktionspåminnelse
DESCRIPTION:Länk till objektet du var intresserad av: https://staging.netauktion.se/auktion/produkt/kuddoverdrag-20st-carina-hagg-design-5
END:VEVENT
END:VCALENDAR
