BEGIN:VCALENDAR
VERSION:2.0
PRODID:-//NetAuktion//NONSGML NetAuktion//SV
METHOD:PUBLISH
BEGIN:VEVENT
UID:20260421T104451-1170926958-netauktion.se
DTSTAMP:20260421T104451
DTSTART:20110131T022300
DTEND:20110131T022600
SUMMARY:Netauktion objekt 0597-041 Auktionspåminnelse
DESCRIPTION:Länk till objektet du var intresserad av: https://staging.netauktion.se/auktion/produkt/oljemalning-okand-konstnar-5
END:VEVENT
END:VCALENDAR
