BEGIN:VCALENDAR
VERSION:2.0
PRODID:-//NetAuktion//NONSGML NetAuktion//SV
METHOD:PUBLISH
BEGIN:VEVENT
UID:20260421T104458-592914174-netauktion.se
DTSTAMP:20260421T104458
DTSTART:20081217T025500
DTEND:20081217T025800
SUMMARY:Netauktion objekt 0145-028 Auktionspåminnelse
DESCRIPTION:Länk till objektet du var intresserad av: https://staging.netauktion.se/auktion/produkt/hylla-for-servicebil
END:VEVENT
END:VCALENDAR
