BEGIN:VCALENDAR
VERSION:2.0
PRODID:-//NetAuktion//NONSGML NetAuktion//SV
METHOD:PUBLISH
BEGIN:VEVENT
UID:20260421T104428-2108107010-netauktion.se
DTSTAMP:20260421T104428
DTSTART:20081217T025800
DTEND:20081217T030100
SUMMARY:Netauktion objekt 0145-029 Auktionspåminnelse
DESCRIPTION:Länk till objektet du var intresserad av: https://staging.netauktion.se/auktion/produkt/1st-belysningsstolpe
END:VEVENT
END:VCALENDAR
