BEGIN:VCALENDAR
VERSION:2.0
PRODID:-//NetAuktion//NONSGML NetAuktion//SV
METHOD:PUBLISH
BEGIN:VEVENT
UID:20260421T104353-1612030236-netauktion.se
DTSTAMP:20260421T104353
DTSTART:20081217T030900
DTEND:20081217T031200
SUMMARY:Netauktion objekt 0145-035 Auktionspåminnelse
DESCRIPTION:Länk till objektet du var intresserad av: https://staging.netauktion.se/auktion/produkt/skurmaskiner-tillbehor
END:VEVENT
END:VCALENDAR
