BEGIN:VCALENDAR
VERSION:2.0
PRODID:-//NetAuktion//NONSGML NetAuktion//SV
METHOD:PUBLISH
BEGIN:VEVENT
UID:20260421T104427-870902286-netauktion.se
DTSTAMP:20260421T104427
DTSTART:20101102T010800
DTEND:20101102T011100
SUMMARY:Netauktion objekt 0638-033 Auktionspåminnelse
DESCRIPTION:Länk till objektet du var intresserad av: https://staging.netauktion.se/auktion/produkt/no-smoking-skylt-70cm-bred-5
END:VEVENT
END:VCALENDAR
