BEGIN:VCALENDAR
VERSION:2.0
PRODID:-//NetAuktion//NONSGML NetAuktion//SV
METHOD:PUBLISH
BEGIN:VEVENT
UID:20260421T102804-454337373-netauktion.se
DTSTAMP:20260421T102804
DTSTART:20101102T012000
DTEND:20101102T012300
SUMMARY:Netauktion objekt 0638-048 Auktionspåminnelse
DESCRIPTION:Länk till objektet du var intresserad av: https://staging.netauktion.se/auktion/produkt/biljard-skrivtavla-med-inbyggd-klocka-2
END:VEVENT
END:VCALENDAR
