BEGIN:VCALENDAR
VERSION:2.0
PRODID:-//NetAuktion//NONSGML NetAuktion//SV
METHOD:PUBLISH
BEGIN:VEVENT
UID:20260421T102832-1044400380-netauktion.se
DTSTAMP:20260421T102832
DTSTART:20081217T032500
DTEND:20081217T032800
SUMMARY:Netauktion objekt 0145-056 Auktionspåminnelse
DESCRIPTION:Länk till objektet du var intresserad av: https://staging.netauktion.se/auktion/produkt/kontorstillbehor
END:VEVENT
END:VCALENDAR
