BEGIN:VCALENDAR
VERSION:2.0
PRODID:-//NetAuktion//NONSGML NetAuktion//SV
METHOD:PUBLISH
BEGIN:VEVENT
UID:20260421T102833-1719062013-netauktion.se
DTSTAMP:20260421T102833
DTSTART:20081217T033200
DTEND:20081217T033500
SUMMARY:Netauktion objekt 0145-064 Auktionspåminnelse
DESCRIPTION:Länk till objektet du var intresserad av: https://staging.netauktion.se/auktion/produkt/diverse-slang-och-elkabel-mm
END:VEVENT
END:VCALENDAR
