BEGIN:VCALENDAR
VERSION:2.0
PRODID:-//NetAuktion//NONSGML NetAuktion//SV
METHOD:PUBLISH
BEGIN:VEVENT
UID:20260421T102801-1274928615-netauktion.se
DTSTAMP:20260421T102801
DTSTART:20081217T033600
DTEND:20081217T033900
SUMMARY:Netauktion objekt 0145-069 Auktionspåminnelse
DESCRIPTION:Länk till objektet du var intresserad av: https://staging.netauktion.se/auktion/produkt/elektrisk-lovblassug-2
END:VEVENT
END:VCALENDAR
