BEGIN:VCALENDAR
VERSION:2.0
PRODID:-//NetAuktion//NONSGML NetAuktion//SV
METHOD:PUBLISH
BEGIN:VEVENT
UID:20260421T104456-1269588552-netauktion.se
DTSTAMP:20260421T104456
DTSTART:20100930T011300
DTEND:20100930T011600
SUMMARY:Netauktion objekt 0519-342 Auktionspåminnelse
DESCRIPTION:Länk till objektet du var intresserad av: https://staging.netauktion.se/auktion/produkt/300-st-kaffekapslar-for-espressomaskin-lungo-17
END:VEVENT
END:VCALENDAR
