BEGIN:VCALENDAR
VERSION:2.0
PRODID:-//NetAuktion//NONSGML NetAuktion//SV
METHOD:PUBLISH
BEGIN:VEVENT
UID:20260421T104427-180160383-netauktion.se
DTSTAMP:20260421T104427
DTSTART:20100930T011700
DTEND:20100930T012000
SUMMARY:Netauktion objekt 0519-344 Auktionspåminnelse
DESCRIPTION:Länk till objektet du var intresserad av: https://staging.netauktion.se/auktion/produkt/300-st-kaffekapslar-for-espressomaskin-lungo-19
END:VEVENT
END:VCALENDAR
