BEGIN:VCALENDAR
VERSION:2.0
PRODID:-//NetAuktion//NONSGML NetAuktion//SV
METHOD:PUBLISH
BEGIN:VEVENT
UID:20260421T104428-1360129564-netauktion.se
DTSTAMP:20260421T104428
DTSTART:20100930T013800
DTEND:20100930T014100
SUMMARY:Netauktion objekt 0519-345 Auktionspåminnelse
DESCRIPTION:Länk till objektet du var intresserad av: https://staging.netauktion.se/auktion/produkt/300-st-kaffekapslar-for-espressomaskin-lungo-20
END:VEVENT
END:VCALENDAR
