BEGIN:VCALENDAR
VERSION:2.0
PRODID:-//NetAuktion//NONSGML NetAuktion//SV
METHOD:PUBLISH
BEGIN:VEVENT
UID:20260421T102954-1714407073-netauktion.se
DTSTAMP:20260421T102954
DTSTART:20100930T013800
DTEND:20100930T014100
SUMMARY:Netauktion objekt 0519-347 Auktionspåminnelse
DESCRIPTION:Länk till objektet du var intresserad av: https://staging.netauktion.se/auktion/produkt/300-st-kaffekapslar-for-espressomaskin-lungo-22
END:VEVENT
END:VCALENDAR
