BEGIN:VCALENDAR
VERSION:2.0
PRODID:-//NetAuktion//NONSGML NetAuktion//SV
METHOD:PUBLISH
BEGIN:VEVENT
UID:20260421T104439-1557167814-netauktion.se
DTSTAMP:20260421T104439
DTSTART:20100930T011900
DTEND:20100930T012200
SUMMARY:Netauktion objekt 0519-355 Auktionspåminnelse
DESCRIPTION:Länk till objektet du var intresserad av: https://staging.netauktion.se/auktion/produkt/300-st-kaffekapslar-for-epsressomaskin-espresso-8
END:VEVENT
END:VCALENDAR
