BEGIN:VCALENDAR
VERSION:2.0
PRODID:-//NetAuktion//NONSGML NetAuktion//SV
METHOD:PUBLISH
BEGIN:VEVENT
UID:20260421T104322-1762596965-netauktion.se
DTSTAMP:20260421T104322
DTSTART:20081217T034500
DTEND:20081217T034800
SUMMARY:Netauktion objekt 0145-074 Auktionspåminnelse
DESCRIPTION:Länk till objektet du var intresserad av: https://staging.netauktion.se/auktion/produkt/ak-grasklippare
END:VEVENT
END:VCALENDAR
