BEGIN:VCALENDAR
VERSION:2.0
PRODID:-//NetAuktion//NONSGML NetAuktion//SV
METHOD:PUBLISH
BEGIN:VEVENT
UID:20260421T104352-1486520434-netauktion.se
DTSTAMP:20260421T104352
DTSTART:20100930T013900
DTEND:20100930T014200
SUMMARY:Netauktion objekt 0519-356 Auktionspåminnelse
DESCRIPTION:Länk till objektet du var intresserad av: https://staging.netauktion.se/auktion/produkt/300-st-kaffekapslar-for-epsressomaskin-espresso-9
END:VEVENT
END:VCALENDAR
