BEGIN:VCALENDAR
VERSION:2.0
PRODID:-//NetAuktion//NONSGML NetAuktion//SV
METHOD:PUBLISH
BEGIN:VEVENT
UID:20260421T104258-1349276512-netauktion.se
DTSTAMP:20260421T104258
DTSTART:20100930T014200
DTEND:20100930T014500
SUMMARY:Netauktion objekt 0519-357 Auktionspåminnelse
DESCRIPTION:Länk till objektet du var intresserad av: https://staging.netauktion.se/auktion/produkt/300-st-kaffekapslar-for-epsressomaskin-espresso-10
END:VEVENT
END:VCALENDAR
