BEGIN:VCALENDAR
VERSION:2.0
PRODID:-//NetAuktion//NONSGML NetAuktion//SV
METHOD:PUBLISH
BEGIN:VEVENT
UID:20260421T104619-1161925495-netauktion.se
DTSTAMP:20260421T104619
DTSTART:20100930T014100
DTEND:20100930T014400
SUMMARY:Netauktion objekt 0519-358 Auktionspåminnelse
DESCRIPTION:Länk till objektet du var intresserad av: https://staging.netauktion.se/auktion/produkt/300-st-kaffekapslar-for-epsressomaskin-espresso-11
END:VEVENT
END:VCALENDAR
