BEGIN:VCALENDAR
VERSION:2.0
PRODID:-//NetAuktion//NONSGML NetAuktion//SV
METHOD:PUBLISH
BEGIN:VEVENT
UID:20260421T104428-1971043329-netauktion.se
DTSTAMP:20260421T104428
DTSTART:20100930T012000
DTEND:20100930T012300
SUMMARY:Netauktion objekt 0519-363 Auktionspåminnelse
DESCRIPTION:Länk till objektet du var intresserad av: https://staging.netauktion.se/auktion/produkt/300-st-kaffekapslar-for-espressomaskin-ristretto-18
END:VEVENT
END:VCALENDAR
