BEGIN:VCALENDAR
VERSION:2.0
PRODID:-//NetAuktion//NONSGML NetAuktion//SV
METHOD:PUBLISH
BEGIN:VEVENT
UID:20260421T102838-143081635-netauktion.se
DTSTAMP:20260421T102838
DTSTART:20100930T012200
DTEND:20100930T012500
SUMMARY:Netauktion objekt 0519-365 Auktionspåminnelse
DESCRIPTION:Länk till objektet du var intresserad av: https://staging.netauktion.se/auktion/produkt/300-st-kaffekapslar-for-espressomaskin-ristretto-2
END:VEVENT
END:VCALENDAR
