BEGIN:VCALENDAR
VERSION:2.0
PRODID:-//NetAuktion//NONSGML NetAuktion//SV
METHOD:PUBLISH
BEGIN:VEVENT
UID:20260421T104446-1902387690-netauktion.se
DTSTAMP:20260421T104446
DTSTART:20100930T012300
DTEND:20100930T012600
SUMMARY:Netauktion objekt 0519-366 Auktionspåminnelse
DESCRIPTION:Länk till objektet du var intresserad av: https://staging.netauktion.se/auktion/produkt/300-st-kaffekapslar-for-espressomaskin-ristretto-19
END:VEVENT
END:VCALENDAR
