BEGIN:VCALENDAR
VERSION:2.0
PRODID:-//NetAuktion//NONSGML NetAuktion//SV
METHOD:PUBLISH
BEGIN:VEVENT
UID:20260421T104431-145339134-netauktion.se
DTSTAMP:20260421T104431
DTSTART:20100930T014300
DTEND:20100930T014600
SUMMARY:Netauktion objekt 0519-368 Auktionspåminnelse
DESCRIPTION:Länk till objektet du var intresserad av: https://staging.netauktion.se/auktion/produkt/300-st-kaffekapslar-for-espressomaskin-ristretto-21
END:VEVENT
END:VCALENDAR
