BEGIN:VCALENDAR
VERSION:2.0
PRODID:-//NetAuktion//NONSGML NetAuktion//SV
METHOD:PUBLISH
BEGIN:VEVENT
UID:20260421T104429-1389480833-netauktion.se
DTSTAMP:20260421T104429
DTSTART:20100930T014400
DTEND:20100930T014700
SUMMARY:Netauktion objekt 0519-369 Auktionspåminnelse
DESCRIPTION:Länk till objektet du var intresserad av: https://staging.netauktion.se/auktion/produkt/300-st-kaffekapslar-for-espressomaskin-ristretto-22
END:VEVENT
END:VCALENDAR
