BEGIN:VCALENDAR
VERSION:2.0
PRODID:-//NetAuktion//NONSGML NetAuktion//SV
METHOD:PUBLISH
BEGIN:VEVENT
UID:20260421T104441-421412601-netauktion.se
DTSTAMP:20260421T104441
DTSTART:20100930T012400
DTEND:20100930T012700
SUMMARY:Netauktion objekt 0519-376 Auktionspåminnelse
DESCRIPTION:Länk till objektet du var intresserad av: https://staging.netauktion.se/auktion/produkt/36st-cappucinokoppar-med-fat-16
END:VEVENT
END:VCALENDAR
