BEGIN:VCALENDAR
VERSION:2.0
PRODID:-//NetAuktion//NONSGML NetAuktion//SV
METHOD:PUBLISH
BEGIN:VEVENT
UID:20260421T102952-191791375-netauktion.se
DTSTAMP:20260421T102952
DTSTART:20100930T012600
DTEND:20100930T012900
SUMMARY:Netauktion objekt 0519-378 Auktionspåminnelse
DESCRIPTION:Länk till objektet du var intresserad av: https://staging.netauktion.se/auktion/produkt/36st-cappucinokoppar-med-fat-22
END:VEVENT
END:VCALENDAR
