BEGIN:VCALENDAR
VERSION:2.0
PRODID:-//NetAuktion//NONSGML NetAuktion//SV
METHOD:PUBLISH
BEGIN:VEVENT
UID:20260421T102834-1640678711-netauktion.se
DTSTAMP:20260421T102834
DTSTART:20100930T012700
DTEND:20100930T013000
SUMMARY:Netauktion objekt 0519-379 Auktionspåminnelse
DESCRIPTION:Länk till objektet du var intresserad av: https://staging.netauktion.se/auktion/produkt/36st-cappucinokoppar-med-fat-23
END:VEVENT
END:VCALENDAR
