BEGIN:VCALENDAR
VERSION:2.0
PRODID:-//NetAuktion//NONSGML NetAuktion//SV
METHOD:PUBLISH
BEGIN:VEVENT
UID:20260421T104353-1467446336-netauktion.se
DTSTAMP:20260421T104353
DTSTART:20100930T012900
DTEND:20100930T013200
SUMMARY:Netauktion objekt 0519-388 Auktionspåminnelse
DESCRIPTION:Länk till objektet du var intresserad av: https://staging.netauktion.se/auktion/produkt/48st-espressokoppar-med-fat-30
END:VEVENT
END:VCALENDAR
