BEGIN:VCALENDAR
VERSION:2.0
PRODID:-//NetAuktion//NONSGML NetAuktion//SV
METHOD:PUBLISH
BEGIN:VEVENT
UID:20260421T102801-831300228-netauktion.se
DTSTAMP:20260421T102801
DTSTART:20100930T013000
DTEND:20100930T013300
SUMMARY:Netauktion objekt 0519-389 Auktionspåminnelse
DESCRIPTION:Länk till objektet du var intresserad av: https://staging.netauktion.se/auktion/produkt/48st-espressokoppar-med-fat-31
END:VEVENT
END:VCALENDAR
