BEGIN:VCALENDAR
VERSION:2.0
PRODID:-//NetAuktion//NONSGML NetAuktion//SV
METHOD:PUBLISH
BEGIN:VEVENT
UID:20260421T104359-294849294-netauktion.se
DTSTAMP:20260421T104359
DTSTART:20100930T014900
DTEND:20100930T015200
SUMMARY:Netauktion objekt 0519-392 Auktionspåminnelse
DESCRIPTION:Länk till objektet du var intresserad av: https://staging.netauktion.se/auktion/produkt/48st-espressokoppar-med-fat-34
END:VEVENT
END:VCALENDAR
