BEGIN:VCALENDAR
VERSION:2.0
PRODID:-//NetAuktion//NONSGML NetAuktion//SV
METHOD:PUBLISH
BEGIN:VEVENT
UID:20260421T102840-1026422775-netauktion.se
DTSTAMP:20260421T102840
DTSTART:20100930T015000
DTEND:20100930T015300
SUMMARY:Netauktion objekt 0519-393 Auktionspåminnelse
DESCRIPTION:Länk till objektet du var intresserad av: https://staging.netauktion.se/auktion/produkt/48st-espressokoppar-med-fat-35
END:VEVENT
END:VCALENDAR
