BEGIN:VCALENDAR
VERSION:2.0
PRODID:-//NetAuktion//NONSGML NetAuktion//SV
METHOD:PUBLISH
BEGIN:VEVENT
UID:20260421T104445-508113008-netauktion.se
DTSTAMP:20260421T104445
DTSTART:20081217T034600
DTEND:20081217T034900
SUMMARY:Netauktion objekt 0145-079 Auktionspåminnelse
DESCRIPTION:Länk till objektet du var intresserad av: https://staging.netauktion.se/auktion/produkt/golvsopare
END:VEVENT
END:VCALENDAR
