BEGIN:VCALENDAR
VERSION:2.0
PRODID:-//NetAuktion//NONSGML NetAuktion//SV
METHOD:PUBLISH
BEGIN:VEVENT
UID:20260421T102851-2039383068-netauktion.se
DTSTAMP:20260421T102851
DTSTART:20081217T034800
DTEND:20081217T035100
SUMMARY:Netauktion objekt 0145-081 Auktionspåminnelse
DESCRIPTION:Länk till objektet du var intresserad av: https://staging.netauktion.se/auktion/produkt/plog-plogfaste
END:VEVENT
END:VCALENDAR
