BEGIN:VCALENDAR
VERSION:2.0
PRODID:-//NetAuktion//NONSGML NetAuktion//SV
METHOD:PUBLISH
BEGIN:VEVENT
UID:20260421T102834-480529578-netauktion.se
DTSTAMP:20260421T102834
DTSTART:20081217T035600
DTEND:20081217T035900
SUMMARY:Netauktion objekt 0145-082 Auktionspåminnelse
DESCRIPTION:Länk till objektet du var intresserad av: https://staging.netauktion.se/auktion/produkt/diverse-spadar-skyfflar-och-borstar-mm
END:VEVENT
END:VCALENDAR
