BEGIN:VCALENDAR
VERSION:2.0
PRODID:-//NetAuktion//NONSGML NetAuktion//SV
METHOD:PUBLISH
BEGIN:VEVENT
UID:20260421T102802-1065052836-netauktion.se
DTSTAMP:20260421T102802
DTSTART:20081217T040500
DTEND:20081217T040800
SUMMARY:Netauktion objekt 0145-086 Auktionspåminnelse
DESCRIPTION:Länk till objektet du var intresserad av: https://staging.netauktion.se/auktion/produkt/pallstall-3
END:VEVENT
END:VCALENDAR
