BEGIN:VCALENDAR
VERSION:2.0
PRODID:-//NetAuktion//NONSGML NetAuktion//SV
METHOD:PUBLISH
BEGIN:VEVENT
UID:20260421T102834-1234191176-netauktion.se
DTSTAMP:20260421T102834
DTSTART:20081217T040300
DTEND:20081217T040600
SUMMARY:Netauktion objekt 0125-211 Auktionspåminnelse
DESCRIPTION:Länk till objektet du var intresserad av: https://staging.netauktion.se/auktion/produkt/skrivare-hp
END:VEVENT
END:VCALENDAR
