BEGIN:VCALENDAR
VERSION:2.0
PRODID:-//NetAuktion//NONSGML NetAuktion//SV
METHOD:PUBLISH
BEGIN:VEVENT
UID:20260421T104354-1447802152-netauktion.se
DTSTAMP:20260421T104354
DTSTART:20101103T010300
DTEND:20101103T010600
SUMMARY:Netauktion objekt 0671-016 Auktionspåminnelse
DESCRIPTION:Länk till objektet du var intresserad av: https://staging.netauktion.se/auktion/produkt/varmepump-foma-for-160m-101
END:VEVENT
END:VCALENDAR
