BEGIN:VCALENDAR
VERSION:2.0
PRODID:-//NetAuktion//NONSGML NetAuktion//SV
METHOD:PUBLISH
BEGIN:VEVENT
UID:20260421T104255-213597748-netauktion.se
DTSTAMP:20260421T104255
DTSTART:20101103T010600
DTEND:20101103T010900
SUMMARY:Netauktion objekt 0671-017 Auktionspåminnelse
DESCRIPTION:Länk till objektet du var intresserad av: https://staging.netauktion.se/auktion/produkt/varmepump-foma-for-160m-105
END:VEVENT
END:VCALENDAR
