BEGIN:VCALENDAR
VERSION:2.0
PRODID:-//NetAuktion//NONSGML NetAuktion//SV
METHOD:PUBLISH
BEGIN:VEVENT
UID:20260421T104429-147231259-netauktion.se
DTSTAMP:20260421T104429
DTSTART:20101103T010800
DTEND:20101103T011100
SUMMARY:Netauktion objekt 0671-019 Auktionspåminnelse
DESCRIPTION:Länk till objektet du var intresserad av: https://staging.netauktion.se/auktion/produkt/varmepump-foma-for-160m-117
END:VEVENT
END:VCALENDAR
