BEGIN:VCALENDAR
VERSION:2.0
PRODID:-//NetAuktion//NONSGML NetAuktion//SV
METHOD:PUBLISH
BEGIN:VEVENT
UID:20260421T104450-80253580-netauktion.se
DTSTAMP:20260421T104450
DTSTART:20110131T023500
DTEND:20110131T023800
SUMMARY:Netauktion objekt 0672-009 Auktionspåminnelse
DESCRIPTION:Länk till objektet du var intresserad av: https://staging.netauktion.se/auktion/produkt/foma-varmepump-for-200m-160
END:VEVENT
END:VCALENDAR
