BEGIN:VCALENDAR
VERSION:2.0
PRODID:-//NetAuktion//NONSGML NetAuktion//SV
METHOD:PUBLISH
BEGIN:VEVENT
UID:20260421T104316-1439112356-netauktion.se
DTSTAMP:20260421T104316
DTSTART:20101103T013300
DTEND:20101103T013600
SUMMARY:Netauktion objekt 0672-013 Auktionspåminnelse
DESCRIPTION:Länk till objektet du var intresserad av: https://staging.netauktion.se/auktion/produkt/foma-varmepump-for-200m-40
END:VEVENT
END:VCALENDAR
