BEGIN:VCALENDAR
VERSION:2.0
PRODID:-//NetAuktion//NONSGML NetAuktion//SV
METHOD:PUBLISH
BEGIN:VEVENT
UID:20260421T102840-1706861472-netauktion.se
DTSTAMP:20260421T102840
DTSTART:20101029T220700
DTEND:20101029T221000
SUMMARY:Netauktion objekt 0519-426 Auktionspåminnelse
DESCRIPTION:Länk till objektet du var intresserad av: https://staging.netauktion.se/auktion/produkt/300-st-kaffekapslar-for-epsressomaskin-espresso-29
END:VEVENT
END:VCALENDAR
