BEGIN:VCALENDAR
VERSION:2.0
PRODID:-//NetAuktion//NONSGML NetAuktion//SV
METHOD:PUBLISH
BEGIN:VEVENT
UID:20260425T134312-934078457-netauktion.se
DTSTAMP:20260425T134312
DTSTART:20090123T012900
DTEND:20090123T013200
SUMMARY:Netauktion objekt 0148-029 Auktionspåminnelse
DESCRIPTION:Länk till objektet du var intresserad av: https://staging.netauktion.se/auktion/produkt/6st-baddset
END:VEVENT
END:VCALENDAR
