BEGIN:VCALENDAR
VERSION:2.0
PRODID:-//NetAuktion//NONSGML NetAuktion//SV
METHOD:PUBLISH
BEGIN:VEVENT
UID:20260421T104441-1426041888-netauktion.se
DTSTAMP:20260421T104441
DTSTART:20101029T022200
DTEND:20101029T022500
SUMMARY:Netauktion objekt 0658-051 Auktionspåminnelse
DESCRIPTION:Länk till objektet du var intresserad av: https://staging.netauktion.se/auktion/produkt/avfettning-8
END:VEVENT
END:VCALENDAR
