BEGIN:VCALENDAR
VERSION:2.0
PRODID:-//NetAuktion//NONSGML NetAuktion//SV
METHOD:PUBLISH
BEGIN:VEVENT
UID:20260421T104440-428714252-netauktion.se
DTSTAMP:20260421T104440
DTSTART:20101029T022300
DTEND:20101029T022600
SUMMARY:Netauktion objekt 0658-052 Auktionspåminnelse
DESCRIPTION:Länk till objektet du var intresserad av: https://staging.netauktion.se/auktion/produkt/avfettning-9
END:VEVENT
END:VCALENDAR
