BEGIN:VCALENDAR
VERSION:2.0
PRODID:-//NetAuktion//NONSGML NetAuktion//SV
METHOD:PUBLISH
BEGIN:VEVENT
UID:20260421T102951-364195669-netauktion.se
DTSTAMP:20260421T102951
DTSTART:20101029T022800
DTEND:20101029T023100
SUMMARY:Netauktion objekt 0658-057 Auktionspåminnelse
DESCRIPTION:Länk till objektet du var intresserad av: https://staging.netauktion.se/auktion/produkt/interior-polish-12
END:VEVENT
END:VCALENDAR
