BEGIN:VCALENDAR
VERSION:2.0
PRODID:-//NetAuktion//NONSGML NetAuktion//SV
METHOD:PUBLISH
BEGIN:VEVENT
UID:20260421T102855-1314877529-netauktion.se
DTSTAMP:20260421T102855
DTSTART:20101029T022900
DTEND:20101029T023200
SUMMARY:Netauktion objekt 0658-058 Auktionspåminnelse
DESCRIPTION:Länk till objektet du var intresserad av: https://staging.netauktion.se/auktion/produkt/interior-polish-11
END:VEVENT
END:VCALENDAR
